BEGIN:VCALENDAR
VERSION:2.0
PRODID:-//inett Academy | Die Experten für IT-Schulungen - ECPv6.15.20//NONSGML v1.0//EN
CALSCALE:GREGORIAN
METHOD:PUBLISH
X-WR-CALNAME:inett Academy | Die Experten für IT-Schulungen
X-ORIGINAL-URL:https://inett.academy/en
X-WR-CALDESC:Events for inett Academy | Die Experten für IT-Schulungen
REFRESH-INTERVAL;VALUE=DURATION:PT1H
X-Robots-Tag:noindex
X-PUBLISHED-TTL:PT1H
BEGIN:VTIMEZONE
TZID:Europe/Berlin
BEGIN:DAYLIGHT
TZOFFSETFROM:+0100
TZOFFSETTO:+0200
TZNAME:CEST
DTSTART:20250330T010000
END:DAYLIGHT
BEGIN:STANDARD
TZOFFSETFROM:+0200
TZOFFSETTO:+0100
TZNAME:CET
DTSTART:20251026T010000
END:STANDARD
BEGIN:DAYLIGHT
TZOFFSETFROM:+0100
TZOFFSETTO:+0200
TZNAME:CEST
DTSTART:20260329T010000
END:DAYLIGHT
BEGIN:STANDARD
TZOFFSETFROM:+0200
TZOFFSETTO:+0100
TZNAME:CET
DTSTART:20261025T010000
END:STANDARD
BEGIN:DAYLIGHT
TZOFFSETFROM:+0100
TZOFFSETTO:+0200
TZNAME:CEST
DTSTART:20270328T010000
END:DAYLIGHT
BEGIN:STANDARD
TZOFFSETFROM:+0200
TZOFFSETTO:+0100
TZNAME:CET
DTSTART:20271031T010000
END:STANDARD
END:VTIMEZONE
BEGIN:VEVENT
DTSTART;TZID=Europe/Berlin:20260730T090000
DTEND;TZID=Europe/Berlin:20260731T170000
DTSTAMP:20260425T171810
CREATED:20260422T073632Z
LAST-MODIFIED:20260422T073911Z
UID:40862-1785402000-1785517200@inett.academy
SUMMARY:Proxmox VE | Clustering und Shared Storage 🇩🇪30. – 31. Juli 2026
DESCRIPTION:Proxmox VE | Clustering und Shared Storage 🇩🇪30. – 31. Juli 2026				\n				\n				\n				\n					\n		\n		\n	Clustering und Shared Storage\,\n\n	Digital\,\n\n	Guillaume Delanoy\,\n\n	Juli\,\n\n	Online\,\n\n	Proxmox\,\n\n	proxmoxve\,\n\n	Remote\,\n\n	Webbasiert\n	\n\n				\n				\n				\n				\n							\n			\n						\n				\n					\n										\n																				Dozent\n													\n									\n			\n					\n						\n				\n					\n		\n					\n		\n		\n					\n		\n				\n				\n					\n	\n	Date & Time:	\n			30 July 2026\n\n	\n\n	  //  \n\n\n9:00\n\n	\nCEST\n		\n	\n	  -  \n\n	31 July 2026\n\n	\n\n	  //  \n\n\n17:00\n\n\nCEST\n	\n				\n				\n				\n				\n					\n	\n	Venue			\n				\n	\n		Onlinekurs	\n		\n	\n				\n				\n				\n				\n					\n	\n	Veranstalter\n			inett Academy	\n\n	\n\n				\n				\n				\n				\n					\n		\n	www.inett.academy\n\n				\n				\n				\n				\n									Good to knowDen persönlichen Zugangslink senden wir Ihnen kurz vor Beginn der Veranstaltung an die bei der Anmeldung angegebene E-Mail-Adresse. Bitte achten Sie hier auf Ihren Spam-Ordner. Hinweis: Die auf unserer Webseite angegebenen Kurspreise und Abläufe gelten ausschließlich für Veranstaltungen\, die von uns selbst durchgeführt werden. Bei Angeboten externer Kursanbieter informieren Sie sich bitte direkt beim jeweiligen Veranstalter über Preise\, den technischen Zugang und die Teilnahmevoraussetzungen. Wir helfen gerne\, fragen Sie uns!📧 academy@inett.de📞 +49 681 410 993 0 Montag bis Freitag08:00 bis 17:00 Uhr 								\n				\n				\n		\n				\n				\n					\n	\n\n		\n		\n		\n\n		\n\n\n		\n\n\n\n	Tickets\n\n		\n	\n	\n		The numbers below include tickets for this event already in your cart. Clicking "Get Tickets" will allow you to edit any existing attendee information as well as change ticket quantities.	\n\n\n		\n\n	\n		\n				Clustering und Shared Storage // 30. - 31. Juli 2026	\n\n\n\n\n	Proxmox VE | Clustering und Shared Storage\n\n30. - 31. Juli 2026 | Virtual Training\n\n\n	\n		\n		\n					\n						1\,490.00\n						€\n					\n							\n\n\n	\n\n\n	\n	 15  available\n\n\n	\n\n\n	\n						\n	Decrease ticket quantity for Clustering und Shared Storage // 30. - 31. Juli 2026\n	-\n				\n\n	\n		Quantity	\n	\n\n					\n	Increase ticket quantity for Clustering und Shared Storage // 30. - 31. Juli 2026\n	+\n			\n\n	\n		\n	\n\n\n\n	\n		\n				Deployment und Management // 28. - 29. Juli 2026	\n\n\n\n\n	Proxmox VE | Deployment und Management\n\n28. - 29. Juli 2026 | Virtual Training\n\n\n	\n		\n		\n					\n						1\,490.00\n						€\n					\n							\n\n\n	\n\n\n	\n	 15  available\n\n\n	\n\n\n	\n						\n	Decrease ticket quantity for Deployment und Management // 28. - 29. Juli 2026\n	-\n				\n\n	\n		Quantity	\n	\n\n					\n	Increase ticket quantity for Deployment und Management // 28. - 29. Juli 2026\n	+\n			\n\n	\n		\n	\n\n\n		\n\n	\n	\n	\n		Quantity:	\n	0\n\n\n	\n	\n		Total:	\n	\n		\n					\n						0.00\n						€\n					\n					\n\n\n	Get Tickets\n\n		\n				\n			\n	\n\n\n		\n		\n	\n	\n\n	\n	\n\n	\n	\n\n\n\n			\n\n	\n\n\n				\n				\n				\n				\n					\n	\n		\n\n	\n	Add to calendar	\n		\n	\n\n		\n			\n									\n	Google Calendar\n\n									\n	iCalendar\n\n									\n	Outlook 365\n\n									\n	Outlook Live\n\n							\n		\n\n		\n	\n\n				\n				\n				\n					\n				\n		\n					\n		\n				\n				\n					\n	\n	Related Events\n\n\n	\n\n			\n			\n	\n		Proxmox VE | Deployment und Management 🇩🇪 27. – 28. April 2026	\n\n		\n	\n\n\n			\n			\n	\n		Proxmox VE | Clustering und Shared Storage 🇩🇪29. – 30. April 2026	\n\n		\n	\n\n\n			\n			\n	\n		Proxmox VE | Deployment und Management 🇩🇪05. – 06. Mai 2026	\n\n		\n	\n\n\n				\n				\n				\n		\n				\n					\n				\n				\n							\n							\n					\n			\n						\n				\n					\n	Proxmox VE | Clustering und Shared Storage 🇩🇪30. – 31. Juli 2026				\n				\n				\n				\n							\n			\n						\n				\n											\n													\n					\n										\n														Guillaume Delanoy\n																						Dozent\n													\n									\n			\n					\n						\n				\n					\n		\n					\n		\n				\n						\n					\n			\n						\n				\n					Über den Kurs				\n				\n				\n				\n									Der Kurs gibt Ihnen umfassende Einblicke in die Bereitstellung\, Verwaltung und Integration von Proxmox VE-Knoten in einem Cluster\, um die Vorteile von Hochverfügbarkeit und Ressourcenoptimierung für VMs und Container optimal nutzen zu können. Die praxisnahe Schulung bietet Ihnen ein theoretisches Fundament sowie Hands-On Übungen.  Ziel des Trainings ist\, ein solides Verständnis für die Bereitstellung\, Verwaltung und Optimierung virtueller Umgebungen mit Proxmox VE in geclusterten Deployments zu erhalten. 								\n				\n				\n				\n					Was werden Sie lernen?				\n				\n				\n				\n									Betrieb und Administration komplexer Proxmox VE HA Infrastrukturen inkl. Networking und Storage. Proxmox VE Cluster-Setup: Konzepte / Architektur / TechnologieHardwareanforderungen für eine Cluster-InstallationProxmox VE Cluster: Funktionen / Einrichtung / Konfiguration / VerwaltungGast Uptime ManagementHochverfügbarkeit (HA) – der Proxmox VE HA-Manager und CorosyncErweiterte Authentifizierung und BenutzerverwaltungProxmox VE APISecurity KonzepteHyperkonvergente Infrastruktur mit Ceph (HCI)Proxmox VE Storage ReplicationFrameworkFehlerbehebung (für Single Server Setups & Cluster Installationen)Sicherstellen einer Baseline für die Netzwerk- und ClusterleistungViele praktische Übungen								\n				\n				\n				\n					Good to know				\n				\n				\n				\n							\n						\n				\n					 1. Kenntnisse \n							\n			\n			\n		\n\n						\n				\n		\n					\n				\n				\n									Grundlagenkurs Deployment und Management oder praktische\, gleichwertige Vorkenntnisse im Betrieb von Proxmox VE Servern. 								\n				\n					\n				\n				\n					\n						\n				\n					 2. Preis \n							\n			\n			\n		\n\n						\n				\n		\n					\n				\n				\n									1490\,- Euro zzgl. MwSt. Sparen Sie mit unserem Bundle: Proxmox VE Deployment und Management + Proxmox VE Clustering und Shared Storage. Nur 2760\,-* Euro statt 2.980\,-* Euro *zzgl. MwSt. Mehr Wissen für weniger Geld – jetzt zugreifen! (Gilt nur für Veranstaltungen der inett Academy.) 								\n				\n					\n				\n				\n					\n						\n				\n					 3. Vorkenntnisse \n							\n			\n			\n		\n\n						\n				\n		\n					\n				\n				\n									Grundlagenkurs Deployment und Management oder praktische\, gleichwertige Vorkenntnisse im Betrieb von Proxmox VE Servern. 								\n				\n					\n				\n				\n					\n						\n				\n					 4. Trainingsdauer \n							\n			\n			\n		\n\n						\n				\n		\n					\n				\n				\n									2 Tage je 7 Stunden 								\n				\n					\n				\n				\n					\n						\n				\n					 5. Ausstattung \n							\n			\n			\n		\n\n						\n				\n		\n					\n				\n				\n									Laptop / Computer mit funktionierendem Internetzugang. 								\n				\n					\n				\n				\n					\n						\n				\n					 6. Technische Hilfsmittel \n							\n			\n			\n		\n\n						\n				\n		\n					\n				\n				\n									Kopfhörer\, Mikrofon und Webcam  (betrifft Onlinekurse) 								\n				\n					\n				\n				\n					\n						\n				\n					 7. Training Plus Promo \n							\n			\n			\n		\n\n						\n				\n		\n					\n				\n				\n									20 % Rabatt auf Proxmox Virtual Environment‑Subskriptionen\, wenn sie innerhalb von 2 Monaten nach dem Training gekauft werden.Nur bei Neukauf\, gilt nicht für Verlängerungen\, Upgrades oder bestehende Verträge.Beschränkt auf bis zu 13 Enterprise‑Support‑Subskriptionen (Basic\, Standard oder Premium – maximal 13 Sockets).Nicht kombinierbar mit anderen Rabatten\, Rückvergütungen oder Aktionen.Ausgeschlossen sind Subskriptionen zum Weiterverkauf.Kann einmalig pro Unternehmen eingelöst werden.								\n				\n					\n				\n				\n					\n						\n				\n					 8. Zertifikat \n							\n			\n			\n		\n\n						\n				\n		\n					\n				\n				\n									Alle Teilnehmer:innen erhalten nach Abschluss des Trainings ein offizielles Proxmox Teilnahmezertifikat. 								\n				\n					\n				\n				\n					\n						\n				\n					 9. Download \n							\n			\n			\n		\n\n						\n				\n		\n					\n				\n				\n									\n					\n						\n									Kurs-Facts als PDF downloaden\n					\n					\n				\n								\n				\n					\n				\n				\n					\n					\n						\n				\n				\n				\n					\n	\n	Related Events\n\n\n	\n\n	\n	\n		\n\n		\n			\n	\n		Proxmox VE | Deployment und Management 🇩🇪 27. – 28. April 2026	\n\n\n	27 April // 9:00 - 28 April // 17:00 \n		\n	\n\n\n	\n	\n		\n\n		\n			\n	\n		Proxmox VE | Clustering und Shared Storage 🇩🇪29. – 30. April 2026	\n\n\n	29 April // 9:00 - 30 April // 17:00 \n		\n	\n\n\n	\n	\n		\n\n		\n			\n	\n		Proxmox VE | Deployment und Management 🇩🇪05. – 06. Mai 2026	\n\n\n	5 May // 9:00 - 6 May // 17:00 \n		\n	\n\n\n				\n				\n					\n		\n				\n			\n						\n						\n					\n			\n						\n				\n					\n	\n	Date & Time:	\n			30 July 2026\n\n		\n	\n	  -  \n\n	31 July 2026\n\n	\n				\n				\n				\n				\n					\n		\n		\n\n\n9:00\n\n	\nCEST\n		\n\n\n\n	\n	  -  \n\n17:00\n\n\nCEST\n	\n				\n				\n				\n				\n					\n				\n				\n	\n			\n		Onlinekurs			\n	\n		\n	\n				\n				\n				\n				\n					\n	\n\n		\n		\n		\n\n		\n\n\n		\n\n\n\n	Tickets\n\n		\n	\n	\n		The numbers below include tickets for this event already in your cart. Clicking "Get Tickets" will allow you to edit any existing attendee information as well as change ticket quantities.	\n\n\n		\n\n	\n		\n				Clustering und Shared Storage // 25. - 26. Juni 2026	\n\n\n\n\n	Proxmox VE | Clustering und Shared Storage\n\n25. - 26. Juni 2026 | Virtual Training\n\n\n	\n		\n		\n					\n						1\,490.00\n						€\n					\n							\n\n\n	\n\n\n	\n	 10  available\n\n\n	\n\n\n	\n					\n\n	\n		Quantity	\n	\n\n			\n\n	\n		\n	\n\n\n\n	\n		\n				Deployment und Management // 23. - 24. Juni 2026	\n\n\n\n\n	Proxmox VE | Deployment und Management\n\n23. - 24. Juni 2026 | Virtual Training\n\n\n	\n		\n		\n					\n						1\,490.00\n						€\n					\n							\n\n\n	\n\n\n	\n	 8  available\n\n\n	\n\n\n	\n					\n\n	\n		Quantity	\n	\n\n			\n\n	\n		\n	\n\n\n		\n\n	\n	\n	\n		Quantity:	\n	0\n\n\n	\n	\n		Total:	\n	\n		\n					\n						0.00\n						€\n					\n					\n\n\n	Get Tickets\n\n		\n				\n			\n	\n\n\n		\n		\n	\n	\n\n	\n	\n\n	\n	\n\n\n\n			\n\n	\n\n\n				\n				\n				\n				\n									INFO: Sparen Sie mit unserem Bundle: Proxmox VE Deployment und Management + Proxmox VE Clustering und Shared Storage. Nur 2760\,-* Euro statt 2.980\,-* Euro *zzgl. MwSt. Mehr Wissen für weniger Geld – jetzt zugreifen! 								\n				\n				\n				\n									Haben Sie Fragen zum Kurs oder benötigen Sie ein Angebot? Wir beraten Sie gerne. 								\n				\n				\n				\n							\n			\n			\n			\n\n							\n			\n			\n								\n												\n								Vor- und Nachname							\n														\n											\n								\n												\n								E-Mail							\n														\n											\n								\n												\n								Nachricht							\n										\n								\n							\n			\n				\n				Hiermit willige ich in die Verarbeitung meiner personenbezogenen Daten im Rahmen der Kontaktherstellung ein. (Datenschutzerklärung)			\n		\n						\n								\n									\n								\n									\n								\n					\n						\n																						Senden\n													\n					\n				\n			\n		\n						\n				\n					\n		\n					\n		\n					\n		\n					\n		\n				\n							\n							\n					\n			\n						\n				\n					Das sagen unsere Teilnehmenden  über unser Kursangebot				\n				\n				\n						\n					\n			\n						\n				\n					\n  \n\n    \n\n      \n      \n        ✓ Verifizierte Bewertung\n        Informativ\, praxisnah – klare Empfehlungen.\n\n        \n          \n            Der Kurs von Inett entsprach genau meinen Erwartungen – informativ\, reich an Wissen und praxisnah.\n            Der Trainer konnte alle Fragen kompetent beantworten und gab uns wertvolle Tipps und Tricks mit auf den Weg.\n           \n          \n            Der Kurs war hervorragend\, und ich kann ihn uneingeschränkt weiterempfehlen. \n          \n        \n\n        Weiterlesen\n\n        \n          Gabriel J.|Proxmox VE- Deplayment & Management + Clustering & Shared\n        \n      \n\n      \n      \n        ✓ Verifizierte Bewertung\n        Top Trainer\, super Location\, rundum organisiert.\n\n        \n          \n            Mir hat das Training sehr gut gefallen. Der Trainer Guillaume ist sehr nett und fachlich sehr gut.\n            Die Location war super und es hat an nichts gefehlt.\n           \n          \n            Die gesamte Organisation war auch sehr gut. \n          \n        \n\n        Weiterlesen\n\n        \n          Leon S.|Proxmox VE - Deployment & Management + Clustering & Shared\n        \n      \n\n      \n      \n        ✓ Verifizierte Bewertung\n        Auch für erfahrene Nutzer: echter Mehrwert.\n\n        \n          \n            Ich habe in diesem Kurs im LinuxHotel ausschließlich gute Erfahrungen gemacht. Mir ging es primär um das Zertifikat\,\n            da ich PVE schon 5 Jahre privat einsetze. Trotzdem habe ich noch einiges hinzugelernt und fand den Kurs von Länge und Inhalt her genau richtig.\n           \n          \n            \n              Offener Punkt ist für mich lediglich die automatische Erstellung von kostenlosen Zertifikaten über ACME (Let's Encrypt).\n              Ohne Anleitung ist das für die meisten schwierig. Guillaume erklärt Technik und Zusammenhänge sehr gut\, sodass auch Einsteiger gut zurechtkommen.\n              Für mich wird die Advanced-Schulung interessant – die würde ich wieder über Inett buchen. Zum LinuxHotel: Ort der Ruhe und Fortbildung\, ideal gelegen und sehr schön ausgestattet.\n             \n          \n        \n\n        Weiterlesen\n\n        \n          Joachim K.|Proxmox VE - Deployment & Management + Clustering & Shared\n        \n      \n\n      \n      \n        ✓ Verifizierte Bewertung\n        Angenehm und lehrreich – Fragen zügig geklärt.\n\n        \n          \n            Die beiden Kurse welche ich bei Herrn Delanoy besucht habe\, waren von der ersten Minute bis zur letzten angenehm und lehrreich\,\n            die Kurse vermittelten mir sehr viel Wissen. Fragen wurden zügig beantwortet und Herr Delanoy fragte sogar intern nach\,\n            falls er etwas nicht beantworten konnte.\n           \n          \n            \n              Alles in allem ein Kurs\, den ich jedem ans Herz legen kann\, der sich mit Proxmox beschäftigen möchte.\n              Vielen Dank an dieser Stelle auch nochmal an die inett GmbH\, da jeder Kontakt sehr freundlich und zügig bearbeitet wurde.\n             \n          \n        \n\n        Weiterlesen\n\n        \n          Achim B.|Proxmox VE - Deployment & Management + Clustering & Shared\n        \n      \n\n      \n      \n        ✓ Verifizierte Bewertung\n        Extrem viele Infos – Trainingsleiter ging auf alles ein.\n\n        \n          \n            Der Kurs war super. Wir haben extrem viele Informationen bekommen und der Trainingsleiter ist auf all unsere Fragen eingegangen.\n            Die Trainingsumgebung hat auch sehr gut funktioniert.\n           \n          \n            Vielen Dank nochmal. \n          \n        \n\n        Weiterlesen\n\n        \n          Sebastian G.|Proxmox VE - Deployment & Management + Clustering & Shared\n        \n      \n\n      \n      \n        ✓ Verifizierte Bewertung\n        Anspruchsvoll und praxisnah – Test-Cluster problemlos umgesetzt.\n\n        \n          \n            Diese Kurse waren wirklich sehr anspruchsvoll und praxisnah. Es herrschte eine tolle Lernatmosphäre und Guillaume ging auf Nachfragen speziell ein.\n            Mir ist es nun problemlos gelungen\, ein Test-Cluster mit GlusterFS aufzusetzen.\n           \n          \n            \n              Auch die Versorgung mit Snacks und dem schmackhaften Mittagessen war hervorragend. Macht weiter so.\n             \n          \n        \n\n        Weiterlesen\n\n        \n          Michael S.|Proxmox VE - Deployment & Management + Clustering & Shared\n        \n      \n\n      \n      \n        ✓ Verifizierte Bewertung\n        Sehr gut aufbereitet – solide Labs\, performant.\n\n        \n          \n            Sehr gut aufbereitet und nahegebracht. Die Labore haben gut funktioniert. Die Umgebung war ausreichend performant.\n            Fragen wurden hinreichend beantwortet. Zwei weitergehende Kurse wären noch interessant: SDN / OpenVSwitch und Ceph.\n           \n          \n            \n              Dass diese Punkte nur angerissen werden konnten war klar\, allerdings sind diese für Umsteiger interessant.\n              Verbessern könnte man die Inhalte noch im Bereich Systemhärtung.\n             \n          \n        \n\n        Weiterlesen\n\n        \n          Dirk T.|Proxmox VE - Deployment & Management + Clustering & Shared\n        \n      \n\n      \n      \n        ✓ Verifizierte Bewertung\n        100% gelohnt – praxisnah und kurzweilig.\n\n        \n          \n            Die Teilnahme an den beiden Kursen hat sich 100% gelohnt. Ich konnte mein Wissen auffrischen und vertiefen.\n            Der Referent (Marco Gabriel) hat das Wissen sehr praxisnah und kurzweilig vermittelt. Vor allem das direkte praktische Umsetzen\n            in der Übungsumgebung hat zum Erfolg beigetragen.\n           \n          \n            \n              Auch das Miteinbeziehen der Teilnehmer war hilfreich. Die Kurse kann ich uneingeschränkt weiterempfehlen.\n             \n          \n        \n\n        Weiterlesen\n\n        \n          Thomas S.|Proxmox VE - Deployment & Management + Clustering & Shared
URL:https://inett.academy/en/event/proxmox-ve-clustering-und-shared-storage-%f0%9f%87%a9%f0%9f%87%aa30-31-juli-2026/
LOCATION:Onlinekurs
CATEGORIES:Proxmox,Proxmox VE Clustering und Shared Storage
ORGANIZER;CN="inett Academy":MAILTO:academy@inett.de
END:VEVENT
END:VCALENDAR